Workbook
Name Account: #REF!
Name Allocated_Federal_Student_Count_Generated_Revenues__amount_from_above_sources_allocated_to_this_school: 'Data entry'!$A$85
Name Allocated_Federal_Student_Count_Generated_Revenues__amount_from_above_sources_allocated_to_this_school: #REF!
Name Allocated_revenues_from_other_State___local_sources—other__school_plant__auxiliary_operations__etc.: #REF!
Name Allocation_to_schools: #REF!
Name Allocation_to_Schools_2: "TextBox 1"
Name Allocation_to_Schools_Tab: #REF!
Name Amount_provided_by_ADE: 'Data entry'!$A$70
Name Amount_provided_by_ADE: #REF!
Name CalculationTab: #REF!
Name Child_Nutrition_Programs: 'Data entry'!$A$97
Name Child_Nutrition_Programs: #REF!
Name Classroom_Site_Fund: 'Data entry'!$A$77
Name Classroom_Site_Fund: #REF!
Name Data_Entry_Tab_2: 'Data entry'!$A$1
Name Data_Entry_Tab_2: #REF!
Name District_Additional_Assistance: 'Data entry'!$A$74
Name District_Additional_Assistance: #REF!
Name District_Name: #REF!
Name DistrictName: Totals!$A$1
Name Expenditures_for_Teacher_Salaries___Benefits__All_Funds__Function_1000__Certified_Teachers__in_Object_6100_____Regular_Education__Programs_100__280__520__and_550: 'Data entry'!$A$15
Name Expenditures_for_Teacher_Salaries___Benefits__All_Funds__Function_1000__Certified_Teachers__in_Object_6100_____Regular_Education__Programs_100__280__520__and_550: #REF!
Name From_Federal_Sources__________Impact_Aid: 'Data entry'!$A$96
Name From_Federal_Sources__________Impact_Aid: #REF!
Name From_Other_Local___State_Sources__________Private_Donations___Tax_Credit_Eligible_Fees: 'Data entry'!$A$91
Name From_Other_Local___State_Sources__________Private_Donations___Tax_Credit_Eligible_Fees: #REF!
Name Fund_s: #REF!
Name Grants: 'Data entry'!$A$89
Name Grants: #REF!
Name Other: 'Data entry'!$A$90
Name Other: #REF!
Name Other__IIF__Tuition__Grants: 'Data entry'!$A$80
Name Other__IIF__Tuition__Grants: #REF!
Name Other__school_plant__auxiliary_operations__etc.: 'Data entry'!$A$95
Name Other__school_plant__auxiliary_operations__etc.: #REF!
Name Other_Allocated_Revenues_From_Local_and_State_Taxes__________District_Transportation_Funding: 'Data entry'!$A$86
Name Other_Allocated_Revenues_From_Local_and_State_Taxes__________District_Transportation_Funding: #REF!
Name Other_Federal_Grants: 'Data entry'!$A$83
Name Other_Federal_Grants: #REF!
Name Other_Fees__not_included_in_lines_above: 'Data entry'!$A$93
Name Other_Fees__not_included_in_lines_above: #REF!
Name Other_Grants: 'Data entry'!$A$98
Name Other_Grants: #REF!
Name Other_Revenues_designated_for_use_in_special_education_or_received_as_reimbursement_for_special_education_costs: 'Data entry'!$A$114
Name Other_Revenues_designated_for_use_in_special_education_or_received_as_reimbursement_for_special_education_costs: #REF!
Name Revenues_Generated_By_Student_Count_and_or_Allocated: 'Data entry'!$A$68
Name Revenues_Generated_By_Student_Count_and_or_Allocated: #REF!
Name School_Comparison_1: #REF!
Name School_Lunch_Sales: 'Data entry'!$A$94
Name School_Lunch_Sales: #REF!
Name Single_School_1: #REF!
Name Special_Education: 'Data entry'!$A$106
Name Special_Education: #REF!
Name Special_education_spending_from_M_O__UCO__CSF__IDEA_and_Funds_with_identified_SPED_revenues_Data_Entry_Tab: 'Data entry'!$A$138
Name Special_education_spending_from_M_O__UCO__CSF__IDEA_and_Funds_with_identified_SPED_revenues_Data_Entry_Tab: #REF!
Name SPED_only_portion___Group_A__Group_B_and_Base_revenues__Total_Formula_Funding___Programs_200__512__514_and_515_spending: #REF!
Name SPED_ONLY_Portion_Programs_200__512__514__and_515_Spending: 'Data entry'!$A$134
Name SPED_ONLY_Portion_Programs_200__512__514__and_515_Spending: #REF!
Name Student_count_generated__base_support: #REF!
Name Student_count_generated_allocated_revenues: #REF!

Sheet Totals
A1: District name | B1: Heber-Overgaard Unified School District
A2: CTDS number | B2: 090206000
A3: County | B3: Navajo | H3: As required by Laws 2017, Ch. 211, §4, based on amounts reported in columns HU through IE for the special education only portion of Group A Revenue, and Programs 200, 512, 514, and 515 spending:
H4: Programs 200, 512, 514, and 515 special education spending was less than base, weighted, IDEA, and other special education funding.
H6: Columns H through GY (other than FU through GN) present expenditures from funds 0-799 (excluding 575).
H8: Programs 100-630 | O8: From federal funds - Programs 100-630 | R8: Programs 700-900 | S8: Programs 100-630 | Z8: From federal funds - Programs 100-630 | AC8: Programs 700-900 | AD8: Programs 100-630 | AK8: From federal funds - Programs 100-630 | AN8: Programs 700-900 | AO8: Programs 100-630 | AW8: From federal funds - Programs 100-630 | AZ8: Programs 700-900 | BA8: Programs 100-630 | BH8: From federal funds - Programs 100-630 | BK8: Programs 700-900 | BL8: Programs 100-630 | BT8: From federal funds - Programs 100-630 | BW8: Programs 700-900 | BX8: Programs 100-630 | CE8: From federal funds - Programs 100-630 | CH8: Programs 700-900 | CI8: Programs 100-630 | CP8: From federal funds - Programs 100-630 | CS8: Programs 100-630 | CZ8: From federal funds - Programs 100-630 | DC8: Programs 700-900 | DD8: Programs 100-630 | DK8: From federal funds - Programs 100-630 | DN8: Programs 700-900 | DO8: Programs 700-900 | DP8: Programs 100-630 | DW8: From federal funds - Programs 100-630 | DZ8: Programs 700-900 | EA8: Programs 100-630 | EI8: Programs 700-900 | EJ8: Programs 100-630 | EL8: Programs 700-900 | EM8: Programs 700-900 | EN8: All Programs | EO8: Programs 100-630 | EY8: Programs 700-900 | EZ8: Programs 100-630 | FJ8: Programs 700-900 | FK8: Teacher salaries & benefits (Function 1000) | FU8: Classroom Site Fund expenditures | GO8: Technology expenditures | GW8: Support services—instruction expenditures | GY8: Books, periodicals, and instructional aids | GZ8: Revenues from State & local sources | HE8: Revenues from federal sources | HG8: Other allocated, non-student count generated revenues | HT8: Total allocated revenue | HU8: Total Group A Revenue and programs 200, 512, 514, and 515 spending | IF8: Special education only portion-Group A Revenue and programs 200, 512, 514, and 515 spending | IS8: Expenditures Funds 900-949 all programs, functions, objects | IT8: Revenues Funds 900-949 all programs, functions, objects
H9: Function 1000—Instruction | S9: Function 2100—Support services—students | AD9: Function 2200—Support services—instructional staff | AO9: Function 2300—Support services—general administration | BA9: Function 2400—Support services—school administration | BL9: Functions 2500, 2900—Support services—central services, other | BX9: Function 2600—Support services—operation and maintenance of plant | CI9: Function 2700—Support services—student transportation | CS9: Function 3100—Food service operations | DD9: Function 3200—Enterprise operations | DO9: Function 3300—Community service operations | DP9: Function 3400—Bookstore operations | EA9: Function 4000—Facilities acquisition and construction | EJ9: Function 5000—Debt service | EM9: All Functions | EN9: Function 3300—Community Services Operations | EO9: From federal funds - Functions 1000-3000 | EZ9: From State & local Sources - functions 1000-3000 | FK9: Programs 100-630, excluding 400 | FU9: Function 1000—Instruction | FZ9: Function 2100—Support services—students | GE9: Function 2200—Support services—instruction | GJ9: Other | GO9: All functions | GW9: Programs 100-630, excluding 400 | GY9: Functions 1000 and 2220 | GZ9: Generated by student count | HD9: Allocated revenues | HE9: Generated by student count | HF9: Allocated revenues | HG9: State & local taxes | HL9: From other State & local sources | HQ9: From federal sources | HU9: Formula funding | ID9: Spending | IE9: Comparison | IF9: Formula funding | IO9: Spending | IP9: Comparison | IQ9: Other spending | IR9: Comparison
G10: Payments to other AZ districts tuition 6561 other services 6591 CTED 6870, 6880 | N10: Charges for | Y10: Charges for | AJ10: Charges for | AU10: Judgments | AV10: Charges for | BG10: Charges for | BS10: Charges for | CD10: Charges for | CO10: Charges for | CY10: Charges for | DJ10: Charges for | DV10: Charges for | EG10: Charges for | EU10: Judgments | EW10: Charges for | FH10: Charges for | FR10: Portion of total teacher salaries from State and local sources | FS10: Instructional aide salaries from federal sources | FT10: Instructional aide salaries from State and local sources | GT10: Supplies—technology-related | GU10: Noninstructional software | GV10: Instructional software subscriptions | GZ10: Base support (after any necessary adjustment) | HC10: Other (includes IIF, tuition, grants) | HD10: From student count generated amount | HE10: Federal grants | HF10: From student count generated amount | HG10: District transportation funding | HH10: District voter approved override | HI10: District small school adjustment | HJ10: Grants | HL10: Private donations & tax credit eligible fees | HM10: Transportation fees | HN10: Other fees (not tax credit nor transportation fees) | HO10: School lunch sales | HP10: Other (school plant, auxiliary operations, etc.) | HQ10: Impact Aid | HR10: Child nutrition programs | HS10: Other grants | HU10: Group A total (WSC * BL * TEI ) | HW10: Group B (excluding K-3 and K-3 Reading) | HX10: Base (self-contained student count * base level * TEI) | HY10: Total formula funding | HZ10: IDEA | IA10: Total weighted, base, IDEA funding | IB10: Other revenues designated or received as reimbursement for special education costs | IC10: Total formula funding, IDEA, special education designated revenue | ID10: Total special education spending | IE10: Comparison of revenue to spending | IF10: Group A total (WSC * BL * TEI) | IG10: CSF allocation | IH10: Group B (excluding K-3 and K-3 Reading) | II10: Base (Self-contained student count * base level * TEI) | IJ10: Total formula funding | IK10: IDEA | IL10: Total weighted, base, IDEA funding | IM10: Other revenues designated or received as reimbursement for special education costs | IN10: Total formula funding, IDEA, special education designated revenue | IO10: Total special education spending | IP10: Comparison of revenue to spending | IQ10: M&O, UCO, CSF, IDEA, and funds with identified SPED revenues | IR10: Comparison of spending from formula funding to other funds
I11: Employee | J11: Purchased | K11: Supplies | L11: Property | N11: district services | R11: All 6000 | T11: Employee | U11: Purchased | V11: Supplies | W11: Property | Y11: district services | AC11: All 6000 | AE11: Employee | AF11: Purchased | AG11: Supplies | AH11: Property | AJ11: district services | AN11: All 6000 | AP11: Employee | AQ11: Purchased | AR11: Supplies | AS11: Property | AU11: against a | AV11: district services | AZ11: All 6000 | BB11: Employee | BC11: Purchased | BD11: Supplies | BE11: Property | BG11: district services | BK11: All 6000 | BM11: Employee | BN11: Purchased | BO11: Supplies | BP11: Property | BR11: Interest | BS11: district services | BW11: All | BY11: Employee | BZ11: Purchased | CA11: Supplies | CB11: Property | CD11: district services | CH11: All 6000 | CJ11: Employee | CK11: Purchased | CL11: Supplies | CM11: Property | CO11: district services | CT11: Employee | CU11: Purchased | CV11: Supplies | CW11: Property | CY11: district services | DC11: All 6000 | DE11: Employee | DF11: Purchased | DG11: Supplies | DH11: Property | DJ11: district services | DN11: All 6000 | DO11: All 6000 | DQ11: Employee | DR11: Purchased | DS11: Supplies | DT11: Property | DV11: district services | DZ11: All 6000 | EB11: Employee | EC11: Purchased | ED11: Supplies | EE11: Property | EG11: district services | EI11: All 6000 | EJ11: Redemption of | EK11: Interest | EL11: All 6000 | EM11: Property | EN11: Property | EP11: Employee | EQ11: Purchased | ER11: Supplies | ES11: Property | EU11: against a | EV11: Interest | EW11: district services | EY11: All 6000 | FA11: Employee | FB11: Purchased | FC11: Supplies | FD11: Property | FF11: Judgments against | FG11: Interest | FH11: district services | FJ11: All 6000 | FK11: Certified | FL11: Noncertified | FM11: Certified | FN11: Noncertified | FO11: Contract | FP11: Contract | FV11: Employee | FW11: Purchased | FX11: Supplies | GA11: Employee | GB11: Purchased | GC11: Supplies | GF11: Employee | GG11: Purchased | GH11: Supplies | GK11: Employee | GL11: Purchased | GM11: Supplies | GP11: Technology-related | GQ11: Rental of computers | GS11: Software reported in library books, | GT11: and short-term noninstructional | GU11: subscriptions (more than 12 months) | GV11: (more than 12 months) | GW11: Improvement of instruction | GX11: Library/media services
E12: Unweighted attending student count | H12: Salaries | I12: benefits | J12: services | K12: 6600 | L12: 6700 | M12: Dues and fees | N12: & miscellaneous | R12: object codes | S12: Salaries | T12: benefits | U12: services | V12: 6600 | W12: 6700 | X12: Dues and fees | Y12: & miscellaneous | AC12: object codes | AD12: Salaries | AE12: benefits | AF12: services | AG12: 6600 | AH12: 6700 | AI12: Dues and fees | AJ12: & miscellaneous | AN12: object codes | AO12: Salaries | AP12: benefits | AQ12: services | AR12: 6600 | AS12: 6700 | AT12: Dues and fees | AU12: district/ charter | AV12: & miscellaneous | AZ12: object codes | BA12: Salaries | BB12: benefits | BC12: services | BD12: 6600 | BE12: 6700 | BF12: Dues and fees | BG12: & miscellaneous | BK12: object codes | BL12: Salaries | BM12: benefits | BN12: services | BO12: 6600 | BP12: 6700 | BQ12: Dues and fees | BS12: & miscellaneous | BW12: object codes | BX12: Salaries | BY12: benefits | BZ12: services | CA12: 6600 | CB12: 6700 | CC12: Dues and fees | CD12: & miscellaneous | CH12: object codes | CI12: Salaries | CJ12: benefits | CK12: services | CL12: 6600 | CM12: 6700 | CN12: Dues and fees | CO12: & miscellaneous | CS12: Salaries | CT12: benefits | CU12: services | CV12: 6600 | CW12: 6700 | CX12: Dues and fees | CY12: & miscellaneous | DC12: object codes | DD12: Salaries | DE12: benefits | DF12: services | DG12: 6600 | DH12: 6700 | DI12: Dues and fees | DJ12: & miscellaneous | DN12: object codes | DO12: object codes | DP12: Salaries | DQ12: benefits | DR12: services | DS12: 6600 | DT12: 6700 | DU12: Dues and fees | DV12: & miscellaneous | DZ12: object codes | EA12: Salaries | EB12: benefits | EC12: services | ED12: 6600 | EE12: 6700 | EF12: Dues and fees | EG12: & miscellaneous | EI12: object codes | EJ12: principal | EK12: and other debt costs | EL12: object codes | EO12: Salaries | EP12: benefits | EQ12: services | ER12: 6600 | ES12: 6700 | ET12: Dues and fees | EU12: district | EW12: & miscellaneous | EY12: object codes | EZ12: Salaries | FA12: benefits | FB12: services | FC12: 6600 | FD12: 6700 | FE12: Dues and fees | FF12: a district | FH12: & miscellaneous | FJ12: object codes | FK12: teachers | FL12: teachers | FM12: substitutes | FN12: substitutes | FO12: teachers | FP12: substitutes | FQ12: Benefits | FU12: Salaries | FV12: benefits | FW12: services | FX12: 6600 | FY12: Other | FZ12: Salaries | GA12: benefits | GB12: services | GC12: 6600 | GD12: Other | GE12: Salaries | GF12: benefits | GG12: services | GH12: 6600 | GI12: Other | GJ12: Salaries | GK12: benefits | GL12: services | GM12: 6600 | GN12: Other | GO12: Technical services | GP12: repairs and maintenance | GQ12: and related equipment | GR12: Telecommunications | GS12: textbooks, or instructional aids | GT12: software subscription | GU12: principal and interest | GV12: principal and interest | HA12: District additional assistance (after any necessary adjustment) | HB12: Classroom Site Fund (after any necessary adjustment)
A13: School # | B13: School name | C13: CTDS | D13: Primary unit code | F13: Allocation | H13: 6100 | I13: 6200 | J13: 6300, 6400, 6500 (excluding tuition) | L13: (excluding 6750 and 6760) | M13: 6810 | N13: 6885, 6886, and 6890 | O13: Salaries | P13: Employee benefits | Q13: All other | R13: (excluding tuition, 6750, 6760 and 6900) | S13: 6100 | T13: 6200 | U13: 6300, 6400, 6500 (excluding tuition) | W13: (excluding 6750 and 6760) | X13: 6810 | Y13: 6885, 6886, and 6890 | Z13: Salaries | AA13: Employee benefits | AB13: All other | AC13: (excluding tuition, 6750, 6760 and 6900) | AD13: 6100 | AE13: 6200 | AF13: 6300, 6400, 6500 (excluding tuition) | AH13: (excluding 6750 and 6760) | AI13: 6810 | AJ13: 6885, 6886, and 6890 | AK13: Salaries | AL13: Employee benefits | AM13: All other | AN13: (excluding tuition, 6750, 6760 and 6900) | AO13: 6100 | AP13: 6200 | AQ13: 6300, 6400, 6500 (excluding tuition) | AS13: (excluding 6750 and 6760) | AT13: 6810 | AU13: 6820 | AV13: 6885, 6886, and 6890 | AW13: Salaries | AX13: Employee benefits | AY13: All other | AZ13: (excluding tuition, 6750, 6760 and 6900) | BA13: 6100 | BB13: 6200 | BC13: 6300, 6400, 6500 (excluding tuition) | BE13: (excluding 6750 and 6760) | BF13: 6810 | BG13: 6885, 6886, and 6890 | BH13: Salaries | BI13: Employee benefits | BJ13: All other | BK13: (excluding tuition, 6750, 6760 and 6900) | BL13: 6100 | BM13: 6200 | BN13: 6300, 6400, 6500 (excluding tuition) | BP13: (excluding 6750 and 6760) | BQ13: 6810 | BR13: 6850 | BS13: 6885, 6886, and 6890 | BT13: Salaries | BU13: Employee benefits | BV13: All other | BW13: (excluding tuition, 6750, 6760 and 6900) | BX13: 6100 | BY13: 6200 | BZ13: 6300, 6400, 6500 (excluding tuition) | CB13: (excluding 6750 and 6760) | CC13: 6810 | CD13: 6885, 6886, and 6890 | CE13: Salaries | CF13: Employee benefits | CG13: All other | CH13: (excluding tuition, 6750, 6760 and 6900) | CI13: 6100 | CJ13: 6200 | CK13: 6300, 6400, 6500 (excluding tuition) | CM13: (excluding 6750 and 6760) | CN13: 6810 | CO13: 6885, 6886, and 6890 | CP13: Salaries | CQ13: Employee benefits | CR13: All other | CS13: 6100 | CT13: 6200 | CU13: 6300, 6400, 6500 (excluding tuition) | CW13: (excluding 6750 and 6760) | CX13: 6810 | CY13: 6885, 6886, and 6890 | CZ13: Salaries | DA13: Employee benefits | DB13: All other | DC13: (excluding tuition, 6750, 6760 and 6900) | DD13: 6100 | DE13: 6200 | DF13: 6300, 6400, 6500 (excluding tuition) | DH13: (excluding 6750 and 6760) | DI13: 6810 | DJ13: 6885, 6886, and 6890 | DK13: Salaries | DL13: Employee benefits | DM13: All other | DN13: (excluding tuition, 6750, 6760 and 6900) | DO13: (excluding tuition, 6750, 6760 and 6900) | DP13: 6100 | DQ13: 6200 | DR13: 6300, 6400, 6500 (excluding tuition) | DT13: (excluding 6750 and 6760) | DU13: 6810 | DV13: 6885, 6886, and 6890 | DW13: Salaries | DX13: Employee benefits | DY13: All other | DZ13: (excluding tuition, 6750, 6760 and 6900) | EA13: 6100 | EB13: 6200 | EC13: 6300, 6400, 6500 (excluding tuition) | EE13: (excluding 6750 and 6760) | EF13: 6810 | EG13: 6885, 6886, and 6890 | EI13: (excluding tuition, 6750, 6760 and 6900) | EJ13: 6831, 6832 and 6833 | EK13: 6841, 6842, 6843, 6860 | EL13: (excluding tuition, 6750, 6760 and 6900) | EO13: 6100 | EP13: 6200 | EQ13: 6300, 6400, 6500 (excluding tuition) | ES13: (excluding 6750 and 6760) | ET13: 6810 | EU13: 6820 | EV13: 6850 | EW13: 6885, 6886, and 6890 | EY13: (excluding tuition, 6750, 6760 and 6900) | EZ13: 6100 | FA13: 6200 | FB13: 6300, 6400, 6500 (excluding tuition) | FD13: (excluding 6750 and 6760) | FE13: 6810 | FF13: 6820 | FG13: 6850 | FH13: 6885, 6886, and 6890 | FJ13: (excluding tuition, 6750, 6760 and 6900) | FK13: (objects 6110-6139) | FM13: (objects 6105-6109) | FO13: (in Object 6300) | FP13: (in Object 6300) | FQ13: (in Object 6200) | FU13: 6100 | FV13: 6200 | FW13: 6300, 6400, 6500 (excluding tuition) | FY13: (excluding 6900 and tuition) | FZ13: 6100 | GA13: 6200 | GB13: 6300, 6400, 6500 (excluding tuition) | GD13: (excluding 6900 and tuition) | GE13: 6100 | GF13: 6200 | GG13: 6300, 6400, 6500 (excluding tuition) | GI13: (excluding 6900 and tuition) | GJ13: 6100 | GK13: 6200 | GL13: 6300, 6400, 6500 (excluding tuition) | GN13: (excluding 6900 and tuition) | GO13: 6340 | GP13: 6432 | GQ13: 6443 | GR13: 6531 | GS13: 6641-6643 | GT13: 6650 and 6655 | GU13: 6832 and 6842 | GV13: 6833 and 6843 | GW13: 2210 | GX13: 2220 | GY13: 6640 | HK13: Other | HV13: CSF allocation
A15: Total for all schools | E15: 444.1967 | G15: 0 | H15: 2424381.1 | I15: 665811.79 | J15: 28918.21 | K15: 209867.71 | L15: 42569.02 | M15: 18488.06 | N15: 2301.95 | O15: 173551 | P15: 36483.75 | Q15: 141121.09 | R15: 0 | S15: 138087.98 | T15: 48422.13 | U15: 161741.71 | V15: 7375.72 | W15: 592.91 | X15: 120 | Y15: 13401.96 | Z15: 1794.16 | AA15: 3499.14 | AB15: 61312.92 | AC15: 0 | AD15: 73393.99 | AE15: 21785.44 | AF15: 47745.2 | AG15: 29219.88 | AH15: 0 | AI15: 275 | AJ15: 140 | AK15: 604.5 | AL15: 111.96 | AM15: 63389.65 | AN15: 0 | AO15: 111804.04 | AP15: 29611.01 | AQ15: 81912.26 | AR15: 380.31 | AS15: 0 | AT15: 1459.6 | AU15: 0 | AV15: 0 | AW15: 1064 | AX15: 185.82 | AY15: 0 | AZ15: 0 | BA15: 248166.67 | BB15: 85428.21 | BC15: 2439.2 | BD15: 2761.29 | BE15: 5541.63 | BF15: 2516.22 | BG15: 0 | BH15: 59582 | BI15: 11003.95 | BJ15: 0 | BK15: 0 | BL15: 131902.6 | BM15: 49141.05 | BN15: 182296.15 | BO15: 16595.44 | BP15: 2398.96 | BQ15: 1461.67 | BR15: 0 | BS15: 0 | BT15: 4180 | BU15: 569.79 | BV15: 33701.01 | BW15: 0 | BX15: 281741.89 | BY15: 107401.08 | BZ15: 283553.85 | CA15: 249195.4 | CB15: 11382.69 | CC15: 0 | CD15: 0 | CE15: 5011 | CF15: 977.81 | CG15: 60624 | CH15: 0 | CI15: 213505.74 | CJ15: 69589.53 | CK15: 71879.29 | CL15: 90110.79 | CM15: 30753.53 | CN15: 46 | CO15: 0 | CP15: 2374.38 | CQ15: 457.62 | CR15: 0 | CS15: 7660.84 | CT15: 1465.39 | CU15: 210531.36 | CV15: 145017.89 | CW15: 6780.24 | CX15: 1050 | CY15: 0 | CZ15: 7660.84 | DA15: 1465.39 | DB15: 248490 | DC15: 0 | DD15: 0 | DE15: 0 | DF15: 0 | DG15: 0 | DH15: 0 | DI15: 0 | DJ15: 0 | DK15: 0 | DL15: 0 | DM15: 0 | DN15: 0 | DO15: 0 | DP15: 27172.48 | DQ15: 13036.79 | DR15: 0 | DS15: 5271.01 | DT15: 0 | DU15: 0 | DV15: 0 | DW15: 648 | DX15: 127.34 | DY15: 0 | DZ15: 0 | EA15: 0 | EB15: 0 | EC15: 31586.29 | ED15: 0 | EE15: 36970.59 | EF15: 0 | EG15: 0 | EI15: 0 | EJ15: 0 | EK15: 0 | EL15: 0 | EO15: 256469.88 | EP15: 54882.57 | EQ15: 371993.73 | ER15: 234000.94 | ES15: 0 | ET15: 424 | EU15: 0 | EV15: 0 | EW15: 2220 | EY15: 0 | EZ15: 3401347.4 | FA15: 1036809.8 | FB15: 699023.5 | FC15: 521794.5 | FD15: 100018.98 | FE15: 24992.55 | FF15: 0 | FG15: 0 | FH15: 13623.91 | FJ15: 0 | FK15: 2062003.2 | FM15: 38572.51 | FO15: 0 | FP15: 0 | FQ15: 616641.71 | FR15: 2001853.8 | FS15: 74829.05 | FT15: 231835.55 | FU15: 387000.87 | FV15: 73056.83 | FW15: 0 | FX15: 0 | FY15: 0 | FZ15: 7311.99 | GA15: 1419.15 | GB15: 43297.64 | GC15: 0 | GD15: 0 | GE15: 0 | GF15: 0 | GG15: 0 | GH15: 0 | GI15: 0 | GJ15: 0 | GK15: 0 | GL15: 0 | GM15: 0 | GN15: 0 | GO15: 3555.53 | GP15: 8046.94 | GQ15: 0 | GR15: 93569.55 | GS15: 70808 | GT15: 45151.61 | GU15: 0 | GV15: 0 | GW15: 39561.39 | GX15: 4370.56 | GY15: 163538.57 | GZ15: 3934131.1 | HA15: 331796.13 | HB15: 624503.59 | HC15: 113789 | HD15: 5004219.8 | HE15: 440968 | HF15: 440968 | HG15: 468215 | HH15: 0 | HI15: 0 | HJ15: 9810 | HK15: 958233 | HL15: 42424 | HM15: 116 | HN15: 0 | HO15: 71397 | HP15: 380474 | HQ15: 0 | HR15: 248490 | HS15: 812982 | HT15: 8437328.8 | HU15: 1184748.2 | HV15: 204777.08 | HW15: 295531.23 | HX15: 284809.09 | HY15: 1969865.6 | HZ15: 234818 | IA15: 2204683.6 | IB15: 6762 | IC15: 2211445.6 | ID15: 617033 | IE15: 1594412.6 | IF15: 646226.3 | IG15: 111696.59 | IH15: 295531.23 | II15: 284809.09 | IJ15: 1338263.2 | IK15: 234818 | IL15: 1573081.2 | IM15: 6762 | IN15: 1579843.2 | IO15: 617033 | IP15: 962810.21 | IQ15: 604585 | IR15: 0.97982604 | IS15: 0 | IT15: 0 | IU15: Programs 200, 512, 514, and 515 special education spending was less than base, weighted, IDEA, and other special education funding.
A16: District total | E16: 444.1967 | G16: 0 | H16: 2424381.1 | I16: 665811.79 | J16: 28918.21 | K16: 209867.71 | L16: 42569.02 | M16: 18488.06 | N16: 2301.95 | O16: 173551 | P16: 36483.75 | Q16: 141121.09 | R16: 0 | S16: 138087.98 | T16: 48422.13 | U16: 161741.71 | V16: 7375.72 | W16: 592.91 | X16: 120 | Y16: 13401.96 | Z16: 1794.16 | AA16: 3499.14 | AB16: 61312.92 | AC16: 0 | AD16: 73393.99 | AE16: 21785.44 | AF16: 47745.2 | AG16: 29219.88 | AH16: 0 | AI16: 275 | AJ16: 140 | AK16: 604.5 | AL16: 111.96 | AM16: 63389.65 | AN16: 0 | AO16: 111804.04 | AP16: 29611.01 | AQ16: 81912.26 | AR16: 380.31 | AS16: 0 | AT16: 1459.6 | AU16: 0 | AV16: 0 | AW16: 1064 | AX16: 185.82 | AY16: 0 | AZ16: 0 | BA16: 248166.67 | BB16: 85428.21 | BC16: 2439.2 | BD16: 2761.29 | BE16: 5541.63 | BF16: 2516.22 | BG16: 0 | BH16: 59582 | BI16: 11003.95 | BJ16: 0 | BK16: 0 | BL16: 131902.6 | BM16: 49141.05 | BN16: 182296.15 | BO16: 16595.44 | BP16: 2398.96 | BQ16: 1461.67 | BR16: 0 | BS16: 0 | BT16: 4180 | BU16: 569.79 | BV16: 33701.01 | BW16: 0 | BX16: 281741.89 | BY16: 107401.08 | BZ16: 283553.85 | CA16: 249195.4 | CB16: 11382.69 | CC16: 0 | CD16: 0 | CE16: 5011 | CF16: 977.81 | CG16: 60624 | CH16: 0 | CI16: 213505.74 | CJ16: 69589.53 | CK16: 71879.29 | CL16: 90110.79 | CM16: 30753.53 | CN16: 46 | CO16: 0 | CP16: 2374.38 | CQ16: 457.62 | CR16: 0 | CS16: 7660.84 | CT16: 1465.39 | CU16: 210531.36 | CV16: 145017.89 | CW16: 6780.24 | CX16: 1050 | CY16: 0 | CZ16: 7660.84 | DA16: 1465.39 | DB16: 248490 | DC16: 0 | DD16: 0 | DE16: 0 | DF16: 0 | DG16: 0 | DH16: 0 | DI16: 0 | DJ16: 0 | DK16: 0 | DL16: 0 | DM16: 0 | DN16: 0 | DO16: 0 | DP16: 27172.48 | DQ16: 13036.79 | DR16: 0 | DS16: 5271.01 | DT16: 0 | DU16: 0 | DV16: 0 | DW16: 648 | DX16: 127.34 | DY16: 0 | DZ16: 0 | EA16: 0 | EB16: 0 | EC16: 31586.29 | ED16: 0 | EE16: 36970.59 | EF16: 0 | EG16: 0 | EI16: 0 | EJ16: 0 | EK16: 0 | EL16: 0 | EO16: 256469.88 | EP16: 54882.57 | EQ16: 371993.73 | ER16: 234000.94 | ES16: 0 | ET16: 424 | EU16: 0 | EV16: 0 | EW16: 2220 | EY16: 0 | EZ16: 3401347.4 | FA16: 1036809.8 | FB16: 699023.5 | FC16: 521794.5 | FD16: 100018.98 | FE16: 24992.55 | FF16: 0 | FG16: 0 | FH16: 13623.91 | FJ16: 0 | FK16: 2062003.2 | FM16: 38572.51 | FO16: 0 | FP16: 0 | FQ16: 616641.71 | FR16: 2001853.8 | FS16: 74829.05 | FT16: 231835.55 | FU16: 387000.87 | FV16: 73056.83 | FW16: 0 | FX16: 0 | FY16: 0 | FZ16: 7311.99 | GA16: 1419.15 | GB16: 43297.64 | GC16: 0 | GD16: 0 | GE16: 0 | GF16: 0 | GG16: 0 | GH16: 0 | GI16: 0 | GJ16: 0 | GK16: 0 | GL16: 0 | GM16: 0 | GN16: 0 | GO16: 3555.53 | GP16: 8046.94 | GQ16: 0 | GR16: 93569.55 | GS16: 70808 | GT16: 45151.61 | GU16: 0 | GV16: 0 | GW16: 39561.39 | GX16: 4370.56 | GY16: 163538.57 | GZ16: 3934131.1 | HA16: 331796.13 | HB16: 624503.59 | HC16: 113789 | HD16: 5004219.8 | HE16: 440968 | HF16: 440968 | HG16: 468215 | HH16: 0 | HI16: 0 | HJ16: 9810 | HK16: 958233 | HL16: 42424 | HM16: 116 | HN16: 0 | HO16: 71397 | HP16: 380474 | HQ16: 0 | HR16: 248490 | HS16: 812982 | HT16: 8437328.8 | HU16: 1184748.2 | HV16: 204777.08 | HW16: 295531.23 | HX16: 284809.09 | HY16: 1969865.6 | HZ16: 234818 | IA16: 2204683.6 | IB16: 6762 | IC16: 2211445.6 | ID16: 617033 | IE16: 1594412.6 | IF16: 646226.3 | IG16: 111696.59 | IH16: 295531.23 | II16: 284809.09 | IJ16: 1338263.2 | IK16: 234818 | IL16: 1573081.2 | IM16: 6762 | IN16: 1579843.2 | IO16: 617033 | IP16: 962810.21 | IQ16: 604585 | IR16: 0.97982604 | IS16: 0 | IT16: 0 | IU16: Programs 200, 512, 514, and 515 special education spending was less than base, weighted, IDEA, and other special education funding.
A17: Private schools | E17: 0 | H17: 0 | I17: 0 | J17: 0 | K17: 0 | L17: 0 | M17: 0 | N17: 0 | O17: 0 | P17: 0 | Q17: 0 | R17: 0 | S17: 0 | T17: 0 | U17: 0 | V17: 0 | W17: 0 | X17: 0 | Y17: 0 | Z17: 0 | AA17: 0 | AB17: 0 | AC17: 0 | AD17: 0 | AE17: 0 | AF17: 0 | AG17: 0 | AH17: 0 | AI17: 0 | AJ17: 0 | AK17: 0 | AL17: 0 | AM17: 0 | AN17: 0 | AO17: 0 | AP17: 0 | AQ17: 0 | AR17: 0 | AS17: 0 | AT17: 0 | AU17: 0 | AV17: 0 | AW17: 0 | AX17: 0 | AY17: 0 | AZ17: 0 | BA17: 0 | BB17: 0 | BC17: 0 | BD17: 0 | BE17: 0 | BF17: 0 | BG17: 0 | BH17: 0 | BI17: 0 | BJ17: 0 | BK17: 0 | BL17: 0 | BM17: 0 | BN17: 0 | BO17: 0 | BP17: 0 | BQ17: 0 | BR17: 0 | BS17: 0 | BT17: 0 | BU17: 0 | BV17: 0 | BW17: 0 | BX17: 0 | BY17: 0 | BZ17: 0 | CA17: 0 | CB17: 0 | CC17: 0 | CD17: 0 | CE17: 0 | CF17: 0 | CG17: 0 | CH17: 0 | CI17: 0 | CJ17: 0 | CK17: 0 | CL17: 0 | CM17: 0 | CN17: 0 | CO17: 0 | CP17: 0 | CQ17: 0 | CR17: 0 | CS17: 0 | CT17: 0 | CU17: 0 | CV17: 0 | CW17: 0 | CX17: 0 | CY17: 0 | CZ17: 0 | DA17: 0 | DB17: 0 | DC17: 0 | DD17: 0 | DE17: 0 | DF17: 0 | DG17: 0 | DH17: 0 | DI17: 0 | DJ17: 0 | DK17: 0 | DL17: 0 | DM17: 0 | DN17: 0 | DO17: 0 | DP17: 0 | DQ17: 0 | DR17: 0 | DS17: 0 | DT17: 0 | DU17: 0 | DV17: 0 | DW17: 0 | DX17: 0 | DY17: 0 | DZ17: 0 | EA17: 0 | EB17: 0 | EC17: 0 | ED17: 0 | EE17: 0 | EF17: 0 | EG17: 0 | EI17: 0 | EJ17: 0 | EK17: 0 | EL17: 0 | EO17: 0 | EP17: 0 | EQ17: 0 | ER17: 0 | ES17: 0 | ET17: 0 | EU17: 0 | EV17: 0 | EW17: 0 | EY17: 0 | EZ17: 0 | FA17: 0 | FB17: 0 | FC17: 0 | FD17: 0 | FE17: 0 | FF17: 0 | FG17: 0 | FH17: 0 | FJ17: 0 | FK17: 0 | FM17: 0 | FO17: 0 | FP17: 0 | FQ17: 0 | FR17: 0 | FS17: 0 | FT17: 0 | FU17: 0 | FV17: 0 | FW17: 0 | FX17: 0 | FY17: 0 | FZ17: 0 | GA17: 0 | GB17: 0 | GC17: 0 | GD17: 0 | GE17: 0 | GF17: 0 | GG17: 0 | GH17: 0 | GI17: 0 | GJ17: 0 | GK17: 0 | GL17: 0 | GM17: 0 | GN17: 0 | GO17: 0 | GP17: 0 | GQ17: 0 | GR17: 0 | GS17: 0 | GT17: 0 | GU17: 0 | GV17: 0 | GW17: 0 | GX17: 0 | GY17: 0 | GZ17: 0 | HA17: 0 | HB17: 0 | HC17: 0 | HD17: 0 | HE17: 0 | HF17: 0 | HG17: 0 | HH17: 0 | HI17: 0 | HJ17: 0 | HK17: 0 | HL17: 0 | HM17: 0 | HN17: 0 | HO17: 0 | HP17: 0 | HQ17: 0 | HR17: 0 | HS17: 0 | HT17: 0 | HU17: 0 | HV17: 0 | HW17: 0 | HX17: 0 | HY17: 0 | HZ17: 0 | IA17: 0 | IB17: 0 | IC17: 0 | ID17: 0 | IE17: 0 | IF17: 0 | IG17: 0 | IH17: 0 | II17: 0 | IJ17: 0 | IK17: 0 | IL17: 0 | IM17: 0 | IN17: 0 | IO17: 0 | IP17: 0 | IQ17: 0 | IS17: 0 | IT17: 0 | IU17: Programs 200, 512, 514, and 515 special education spending was equal to base, weighted, IDEA, and other special education funding.
A18: CTED (member districts) | E18: 0 | G18: 0 | H18: 0 | I18: 0 | J18: 0 | K18: 0 | L18: 0 | M18: 0 | N18: 0 | O18: 0 | P18: 0 | Q18: 0 | R18: 0 | S18: 0 | T18: 0 | U18: 0 | V18: 0 | W18: 0 | X18: 0 | Y18: 0 | Z18: 0 | AA18: 0 | AB18: 0 | AC18: 0 | AD18: 0 | AE18: 0 | AF18: 0 | AG18: 0 | AH18: 0 | AI18: 0 | AJ18: 0 | AK18: 0 | AL18: 0 | AM18: 0 | AN18: 0 | AO18: 0 | AP18: 0 | AQ18: 0 | AR18: 0 | AS18: 0 | AT18: 0 | AU18: 0 | AV18: 0 | AW18: 0 | AX18: 0 | AY18: 0 | AZ18: 0 | BA18: 0 | BB18: 0 | BC18: 0 | BD18: 0 | BE18: 0 | BF18: 0 | BG18: 0 | BH18: 0 | BI18: 0 | BJ18: 0 | BK18: 0 | BL18: 0 | BM18: 0 | BN18: 0 | BO18: 0 | BP18: 0 | BQ18: 0 | BR18: 0 | BS18: 0 | BT18: 0 | BU18: 0 | BV18: 0 | BW18: 0 | BX18: 0 | BY18: 0 | BZ18: 0 | CA18: 0 | CB18: 0 | CC18: 0 | CD18: 0 | CE18: 0 | CF18: 0 | CG18: 0 | CH18: 0 | CI18: 0 | CJ18: 0 | CK18: 0 | CL18: 0 | CM18: 0 | CN18: 0 | CO18: 0 | CP18: 0 | CQ18: 0 | CR18: 0 | CS18: 0 | CT18: 0 | CU18: 0 | CV18: 0 | CW18: 0 | CX18: 0 | CY18: 0 | CZ18: 0 | DA18: 0 | DB18: 0 | DC18: 0 | DD18: 0 | DE18: 0 | DF18: 0 | DG18: 0 | DH18: 0 | DI18: 0 | DJ18: 0 | DK18: 0 | DL18: 0 | DM18: 0 | DN18: 0 | DO18: 0 | DP18: 0 | DQ18: 0 | DR18: 0 | DS18: 0 | DT18: 0 | DU18: 0 | DV18: 0 | DW18: 0 | DX18: 0 | DY18: 0 | DZ18: 0 | EA18: 0 | EB18: 0 | EC18: 0 | ED18: 0 | EE18: 0 | EF18: 0 | EG18: 0 | EI18: 0 | EJ18: 0 | EK18: 0 | EL18: 0 | EO18: 0 | EP18: 0 | EQ18: 0 | ER18: 0 | ES18: 0 | ET18: 0 | EU18: 0 | EV18: 0 | EW18: 0 | EY18: 0 | EZ18: 0 | FA18: 0 | FB18: 0 | FC18: 0 | FD18: 0 | FE18: 0 | FF18: 0 | FG18: 0 | FH18: 0 | FJ18: 0 | FK18: 0 | FM18: 0 | FO18: 0 | FP18: 0 | FQ18: 0 | FR18: 0 | FS18: 0 | FT18: 0 | FU18: 0 | FV18: 0 | FW18: 0 | FX18: 0 | FY18: 0 | FZ18: 0 | GA18: 0 | GB18: 0 | GC18: 0 | GD18: 0 | GE18: 0 | GF18: 0 | GG18: 0 | GH18: 0 | GI18: 0 | GJ18: 0 | GK18: 0 | GL18: 0 | GM18: 0 | GN18: 0 | GO18: 0 | GP18: 0 | GQ18: 0 | GR18: 0 | GS18: 0 | GT18: 0 | GU18: 0 | GV18: 0 | GW18: 0 | GX18: 0 | GY18: 0 | GZ18: 0 | HA18: 0 | HB18: 0 | HC18: 0 | HD18: 0 | HE18: 0 | HF18: 0 | HG18: 0 | HH18: 0 | HI18: 0 | HJ18: 0 | HK18: 0 | HL18: 0 | HM18: 0 | HN18: 0 | HO18: 0 | HP18: 0 | HQ18: 0 | HR18: 0 | HS18: 0 | HT18: 0 | HU18: 0 | HV18: 0 | HW18: 0 | HX18: 0 | HY18: 0 | HZ18: 0 | IA18: 0 | IB18: 0 | IC18: 0 | ID18: 0 | IE18: 0 | IF18: 0 | IG18: 0 | IH18: 0 | II18: 0 | IJ18: 0 | IK18: 0 | IL18: 0 | IM18: 0 | IN18: 0 | IO18: 0 | IP18: 0 | IQ18: 0 | IS18: 0 | IT18: 0 | IU18: Programs 200, 512, 514, and 515 special education spending was equal to base, weighted, IDEA, and other special education funding.
A19: Districtwide | C19: 090206000 | D19: 500 | G19: 0 | H19: 0 | I19: 0 | J19: 0 | K19: 0 | L19: 0 | M19: 0 | N19: 0 | O19: 0 | P19: 0 | Q19: 0 | R19: 0 | S19: 0 | T19: 0 | U19: 0 | V19: 0 | W19: 0 | X19: 0 | Y19: 0 | Z19: 0 | AA19: 0 | AB19: 0 | AC19: 0 | AD19: 0 | AE19: 0 | AF19: 0 | AG19: 0 | AH19: 0 | AI19: 0 | AJ19: 0 | AK19: 0 | AL19: 0 | AM19: 0 | AN19: 0 | AO19: 0 | AP19: 0 | AQ19: 0 | AR19: 0 | AS19: 0 | AT19: 0 | AU19: 0 | AV19: 0 | AW19: 0 | AX19: 0 | AY19: 0 | AZ19: 0 | BA19: 0 | BB19: 0 | BC19: 0 | BD19: 0 | BE19: 0 | BF19: 0 | BG19: 0 | BH19: 0 | BI19: 0 | BJ19: 0 | BK19: 0 | BL19: 0 | BM19: 0 | BN19: 0 | BO19: 0 | BP19: 0 | BQ19: 0 | BR19: 0 | BS19: 0 | BT19: 0 | BU19: 0 | BV19: 0 | BW19: 0 | BX19: 0 | BY19: 0 | BZ19: 0 | CA19: 0 | CB19: 0 | CC19: 0 | CD19: 0 | CE19: 0 | CF19: 0 | CG19: 0 | CH19: 0 | CI19: 0 | CJ19: 0 | CK19: 0 | CL19: 0 | CM19: 0 | CN19: 0 | CO19: 0 | CP19: 0 | CQ19: 0 | CR19: 0 | CS19: 0 | CT19: 0 | CU19: 0 | CV19: 0 | CW19: 0 | CX19: 0 | CY19: 0 | CZ19: 0 | DA19: 0 | DB19: 0 | DC19: 0 | DD19: 0 | DE19: 0 | DF19: 0 | DG19: 0 | DH19: 0 | DI19: 0 | DJ19: 0 | DK19: 0 | DL19: 0 | DM19: 0 | DN19: 0 | DO19: 0 | DP19: 0 | DQ19: 0 | DR19: 0 | DS19: 0 | DT19: 0 | DU19: 0 | DV19: 0 | DW19: 0 | DX19: 0 | DY19: 0 | DZ19: 0 | EA19: 0 | EB19: 0 | EC19: 0 | ED19: 0 | EE19: 0 | EF19: 0 | EG19: 0 | EI19: 0 | EJ19: 0 | EK19: 0 | EL19: 0 | EO19: 0 | EP19: 0 | EQ19: 0 | ER19: 0 | ES19: 0 | ET19: 0 | EU19: 0 | EV19: 0 | EW19: 0 | EY19: 0 | EZ19: 0 | FA19: 0 | FB19: 0 | FC19: 0 | FD19: 0 | FE19: 0 | FF19: 0 | FG19: 0 | FH19: 0 | FJ19: 0 | FK19: 0 | FM19: 0 | FO19: 0 | FP19: 0 | FQ19: 0 | FR19: 0 | FS19: 0 | FT19: 0 | FU19: 0 | FV19: 0 | FW19: 0 | FX19: 0 | FY19: 0 | FZ19: 0 | GA19: 0 | GB19: 0 | GC19: 0 | GD19: 0 | GE19: 0 | GF19: 0 | GG19: 0 | GH19: 0 | GI19: 0 | GJ19: 0 | GK19: 0 | GL19: 0 | GM19: 0 | GN19: 0 | GO19: 0 | GP19: 0 | GQ19: 0 | GR19: 0 | GS19: 0 | GT19: 0 | GU19: 0 | GV19: 0 | GW19: 0 | GX19: 0 | GY19: 0 | GZ19: 0 | HA19: 0 | HB19: 0 | HC19: 0 | HD19: 0 | HE19: 0 | HF19: 0 | HG19: 0 | HH19: 0 | HI19: 0 | HJ19: 0 | HK19: 0 | HL19: 0 | HM19: 0 | HN19: 0 | HO19: 0 | HP19: 0 | HQ19: 0 | HR19: 0 | HS19: 0 | HT19: 0 | HU19: 0 | HV19: 0 | HW19: 0 | HX19: 0 | HY19: 0 | HZ19: 0 | IA19: 0 | IB19: 0 | IC19: 0 | ID19: 0 | IE19: 0 | IF19: 0 | IG19: 0 | IH19: 0 | II19: 0 | IJ19: 0 | IK19: 0 | IL19: 0 | IM19: 0 | IN19: 0 | IO19: 0 | IP19: 0 | IQ19: 0 | IR19: 1 | IS19: 0 | IT19: 0
A20: School 1 | B20: Mountain Meadows Primary | C20: 090206101 | D20: 101 | E20: 114.4952 | F20: 0.25775788 | H20: 608389.23 | I20: 175155.8 | J20: 0 | K20: 61934.33 | L20: 6540 | M20: 1770.5638 | N20: 0 | O20: 62840.428 | P20: 14824.25 | Q20: 54020.124 | R20: 0 | S20: 19671.15 | T20: 7940.78 | U20: 78362.366 | V20: 1580.58 | W20: 152.82723 | X20: 0 | Y20: 0 | Z20: 1005 | AA20: 184.01 | AB20: 37914.937 | AC20: 0 | AD20: 20138.027 | AE20: 4076.4088 | AF20: 18250.533 | AG20: 8538.0591 | AH20: 0 | AI20: 12.887894 | AJ20: 0 | AK20: 186 | AL20: 36.55 | AM20: 21398.692 | AN20: 0 | AO20: 28818.372 | AP20: 7632.4712 | AQ20: 21113.531 | AR20: 98.0279 | AS20: 0 | AT20: 376.2234 | AU20: 0 | AV20: 0 | AW20: 274.25439 | AX20: 47.896569 | AY20: 0 | AZ20: 0 | BA20: 66830.44 | BB20: 19383.297 | BC20: 674.52 | BD20: 26.19 | BE20: 0 | BF20: 0 | BG20: 0 | BH20: 19653.331 | BI20: 3588.7687 | BJ20: 0 | BK20: 0 | BL20: 33998.935 | BM20: 12666.493 | BN20: 46487.369 | BO20: 4263.4579 | BP20: 618.35085 | BQ20: 376.75696 | BR20: 0 | BS20: 0 | BT20: 1077.4279 | BU20: 146.86786 | BV20: 9079.2934 | BW20: 0 | BX20: 72473.539 | BY20: 25273.822 | BZ20: 57456.592 | CA20: 50235.749 | CB20: 331.56685 | CC20: 0 | CD20: 0 | CE20: 1450.3768 | CF20: 283.51593 | CG20: 15626.314 | CH20: 0 | CI20: 52804.437 | CJ20: 17545.772 | CK20: 18527.453 | CL20: 23216.183 | CM20: 7926.9647 | CN20: 11.856863 | CO20: 0 | CP20: 612.01516 | CQ20: 117.95516 | CR20: 0 | CS20: 1974.6419 | CT20: 377.71582 | CU20: 54266.117 | CV20: 34116.207 | CW20: 0 | CX20: 350 | CY20: 0 | CZ20: 1974.6419 | DA20: 377.71582 | DB20: 64050.256 | DC20: 0 | DD20: 0 | DE20: 0 | DF20: 0 | DG20: 0 | DH20: 0 | DI20: 0 | DJ20: 0 | DK20: 0 | DL20: 0 | DM20: 0 | DN20: 0 | DO20: 0 | DP20: 0 | DQ20: 0 | DR20: 0 | DS20: 0 | DT20: 0 | DU20: 0 | DV20: 0 | DW20: 0 | DX20: 0 | DY20: 0 | DZ20: 0 | EA20: 0 | EB20: 0 | EC20: 0 | ED20: 0 | EE20: 0 | EF20: 0 | EG20: 0 | EI20: 0 | EJ20: 0 | EK20: 0 | EL20: 0 | EO20: 89073.475 | EP20: 19607.53 | EQ20: 124033.58 | ER20: 78004.739 | ES20: 0 | ET20: 51.293818 | EU20: 0 | EV20: 0 | EW20: 0 | EY20: 0 | EZ20: 816025.29 | FA20: 250445.03 | FB20: 171104.9 | FC20: 106004.04 | FD20: 15569.71 | FE20: 2846.9951 | FF20: 0 | FG20: 0 | FH20: 0 | FJ20: 0 | FK20: 483952.76 | FM20: 6002.46 | FO20: 0 | FP20: 0 | FQ20: 154101.32 | FR20: 463598.47 | FS20: 36483.68 | FT20: 81950.33 | FU20: 88967.37 | FV20: 17097.67 | FW20: 0 | FX20: 0 | FY20: 0 | FZ20: 0 | GA20: 0 | GB20: 11160.308 | GC20: 0 | GD20: 0 | GE20: 0 | GF20: 0 | GG20: 0 | GH20: 0 | GI20: 0 | GJ20: 0 | GK20: 0 | GL20: 0 | GM20: 0 | GN20: 0 | GO20: 588.63909 | GP20: 3309.7883 | GQ20: 0 | GR20: 23391.278 | GS20: 19823 | GT20: 11116.06 | GU20: 0 | GV20: 0 | GW20: 14632.393 | GX20: 1091.82 | GY20: 56364.6 | GZ20: 1023812.7 | HA20: 79036.959 | HB20: 159057.69 | HC20: 29612 | HD20: 1289877.1 | HE20: 113662.98 | HF20: 224830 | HG20: 120686.11 | HH20: 0 | HI20: 0 | HJ20: 2528.6048 | HK20: 246992.11 | HL20: 10935.12 | HM20: 29.899914 | HN20: 0 | HO20: 18403.139 | HP20: 98070.172 | HQ20: 0 | HR20: 64050.256 | HS20: 209552.52 | HT20: 2285955 | HU20: 270012.05 | HV20: 47815.699 | HW20: 80393.546 | HX20: 80150.351 | HY20: 478371.64 | HZ20: 115967 | IA20: 594338.64 | IB20: 1742.9588 | IC20: 596081.6 | ID20: 232351.53 | IE20: 363730.07 | IF20: 147279.3 | IG20: 26081.29 | IH20: 80393.546 | II20: 80150.351 | IJ20: 333904.49 | IK20: 115967 | IL20: 449871.49 | IM20: 1742.9588 | IN20: 451614.44 | IO20: 232351.53 | IP20: 219262.92 | IQ20: 226556.53 | IR20: 0.97505934 | IS20: 0 | IT20: 0 | IU20: Programs 200, 512, 514, and 515 special education spending was less than base, weighted, IDEA, and other special education funding.
A21: School 2 | B21: Capps Elementary School | C21: 090206102 | D21: 102 | E21: 110.241 | F21: 0.24818059 | H21: 581292.04 | I21: 170885.17 | J21: 74.55 | K21: 81369.891 | L21: 0 | M21: 353.68794 | N21: 0 | O21: 37426.111 | P21: 7335.9321 | Q21: 72509.218 | R21: 0 | S21: 19909.02 | T21: 8194.49 | U21: 25627.022 | V21: 1580.58 | W21: 147.14875 | X21: 0 | Y21: 1160 | Z21: 93 | AA21: 18.28 | AB21: 10257.269 | AC21: 0 | AD21: 20351.028 | AE21: 4118.2758 | AF21: 9190.6862 | AG21: 6982.5814 | AH21: 0 | AI21: 12.40903 | AJ21: 0 | AK21: 186 | AL21: 36.55 | AM21: 14475.858 | AN21: 0 | AO21: 27747.593 | AP21: 7348.878 | AQ21: 20329.033 | AR21: 94.385561 | AS21: 0 | AT21: 362.24439 | AU21: 0 | AV21: 0 | AW21: 264.06415 | AX21: 46.116918 | AY21: 0 | AZ21: 0 | BA21: 69262.193 | BB21: 22930.249 | BC21: 674.52 | BD21: 563.72 | BE21: 669.53 | BF21: 374.22 | BG21: 0 | BH21: 19546.947 | BI21: 3582.4373 | BJ21: 0 | BK21: 0 | BL21: 32735.665 | BM21: 12195.855 | BN21: 45418.605 | BO21: 4107.8302 | BP21: 595.37531 | BQ21: 362.75813 | BR21: 0 | BS21: 0 | BT21: 1037.3949 | BU21: 141.41082 | BV21: 8338.6492 | BW21: 0 | BX21: 70908.845 | BY21: 27373.472 | BZ21: 78277.764 | CA21: 70753.801 | CB21: 8234.5171 | CC21: 0 | CD21: 0 | CE21: 987.81401 | CF21: 192.68242 | CG21: 15045.7 | CH21: 0 | CI21: 50842.427 | CJ21: 16893.839 | CK21: 17839.045 | CL21: 22353.559 | CM21: 7632.4293 | CN21: 11.416307 | CO21: 0 | CP21: 589.27503 | CQ21: 113.5724 | CR21: 0 | CS21: 1901.2718 | CT21: 363.68136 | CU21: 52249.798 | CV21: 46197.59 | CW21: 0 | CX21: 350 | CY21: 0 | CZ21: 1901.2718 | DA21: 363.68136 | DB21: 61670.395 | DC21: 0 | DD21: 0 | DE21: 0 | DF21: 0 | DG21: 0 | DH21: 0 | DI21: 0 | DJ21: 0 | DK21: 0 | DL21: 0 | DM21: 0 | DN21: 0 | DO21: 0 | DP21: 0 | DQ21: 0 | DR21: 0 | DS21: 0 | DT21: 0 | DU21: 0 | DV21: 0 | DW21: 0 | DX21: 0 | DY21: 0 | DZ21: 0 | EA21: 0 | EB21: 0 | EC21: 0 | ED21: 0 | EE21: 0 | EF21: 0 | EG21: 0 | EI21: 0 | EJ21: 0 | EK21: 0 | EL21: 0 | EO21: 62031.877 | EP21: 11830.663 | EQ21: 78376.555 | ER21: 103871.15 | ES21: 0 | ET21: 49.387938 | EU21: 0 | EV21: 0 | EW21: 0 | EY21: 0 | EZ21: 812918.21 | FA21: 258473.25 | FB21: 171304.47 | FC21: 130132.79 | FD21: 17279 | FE21: 1777.3479 | FF21: 0 | FG21: 0 | FH21: 1160 | FJ21: 0 | FK21: 508926.2 | FM21: 12388.51 | FO21: 0 | FP21: 0 | FQ21: 160218.59 | FR21: 502698.03 | FS21: 18809.43 | FT21: 41167.9 | FU21: 84118.62 | FV21: 16060.26 | FW21: 0 | FX21: 0 | FY21: 0 | FZ21: 0 | GA21: 0 | GB21: 10745.634 | GC21: 0 | GD21: 0 | GE21: 0 | GF21: 0 | GG21: 0 | GH21: 0 | GI21: 0 | GJ21: 0 | GK21: 0 | GL21: 0 | GM21: 0 | GN21: 0 | GO21: 566.76754 | GP21: 1764.358 | GQ21: 0 | GR21: 25617.743 | GS21: 14446 | GT21: 10705.951 | GU21: 0 | GV21: 0 | GW21: 7094.1862 | GX21: 1798.95 | GY21: 71898.44 | GZ21: 966696.56 | HA21: 68260.696 | HB21: 136801.09 | HC21: 27960 | HD21: 1241950.2 | HE21: 109439.7 | HF21: 195840 | HG21: 116201.88 | HH21: 0 | HI21: 0 | HJ21: 2434.6516 | HK21: 237814.83 | HL21: 10528.813 | HM21: 28.788949 | HN21: 0 | HO21: 17719.35 | HP21: 94426.263 | HQ21: 0 | HR21: 61670.395 | HS21: 201766.35 | HT21: 2180381.6 | HU21: 260425.19 | HV21: 41131.709 | HW21: 111159.47 | HX21: 92294.343 | HY21: 505010.71 | HZ21: 56845 | IA21: 561855.71 | IB21: 1678.1972 | IC21: 563533.91 | ID21: 192054.13 | IE21: 371479.78 | IF21: 142050.11 | IG21: 22435.478 | IH21: 111159.47 | II21: 92294.343 | IJ21: 367939.4 | IK21: 56845 | IL21: 424784.4 | IM21: 1678.1972 | IN21: 426462.59 | IO21: 192054.13 | IP21: 234408.46 | IQ21: 189243.13 | IR21: 0.9853635 | IS21: 0 | IT21: 0 | IU21: Programs 200, 512, 514, and 515 special education spending was less than base, weighted, IDEA, and other special education funding.
A22: School 3 | B22: Mogollon Jr High School | C22: 090206103 | D22: 103 | E22: 74.7284 | F22: 0.16823268 | H22: 442424.13 | I22: 116531.26 | J22: 2990.2 | K22: 14423.972 | L22: 2495 | M22: 955.5283 | N22: 896.25 | O22: 20587.913 | P22: 4033.9338 | Q22: 33.478303 | R22: 0 | S22: 11200.65 | T22: 4150.92 | U22: 25102.751 | V22: 927.58 | W22: 99.746837 | X22: 0 | Y22: 0 | Z22: 46.5 | AA22: 9.13 | AB22: 7991.508 | AC22: 0 | AD22: 15879.757 | AE22: 6666.5628 | AF22: 5498.1669 | AG22: 4402.5895 | AH22: 0 | AI22: 8.4116339 | AJ22: 0 | AK22: 116.25 | AL22: 19.43 | AM22: 8577.4765 | AN22: 0 | AO22: 18809.093 | AP22: 4981.5395 | AQ22: 13780.319 | AR22: 63.980569 | AS22: 0 | AT22: 245.55242 | AU22: 0 | AV22: 0 | AW22: 178.99957 | AX22: 31.260996 | AY22: 0 | AZ22: 0 | BA22: 49955.184 | BB22: 20407.881 | BC22: 545.08 | BD22: 318.06 | BE22: 0 | BF22: 0 | BG22: 0 | BH22: 7984.635 | BI22: 1506.5582 | BJ22: 0 | BK22: 0 | BL22: 22190.328 | BM22: 8267.1304 | BN22: 39676.563 | BO22: 2733.7238 | BP22: 403.58346 | BQ22: 245.90066 | BR22: 0 | BS22: 0 | BT22: 703.21259 | BU22: 95.857297 | BV22: 5544.5402 | BW22: 0 | BX22: 32748.221 | BY22: 13314.552 | BZ22: 30925.607 | CA22: 9446.6719 | CB22: 216.4061 | CC22: 0 | CD22: 0 | CE22: 726.9911 | CF22: 141.88891 | CG22: 10198.938 | CH22: 0 | CI22: 34464.249 | CJ22: 11451.725 | CK22: 12092.445 | CL22: 15152.672 | CM22: 5173.7487 | CN22: 7.7387031 | CO22: 0 | CP22: 399.4483 | CQ22: 76.986638 | CR22: 0 | CS22: 1288.8036 | CT22: 246.52648 | CU22: 35418.254 | CV22: 20056.808 | CW22: 0 | CX22: 0 | CY22: 0 | CZ22: 1288.8036 | DA22: 246.52648 | DB22: 41804.138 | DC22: 0 | DD22: 0 | DE22: 0 | DF22: 0 | DG22: 0 | DH22: 0 | DI22: 0 | DJ22: 0 | DK22: 0 | DL22: 0 | DM22: 0 | DN22: 0 | DO22: 0 | DP22: 935.26 | DQ22: 136.03 | DR22: 0 | DS22: 3312.94 | DT22: 0 | DU22: 0 | DV22: 0 | DW22: 0 | DX22: 0 | DY22: 0 | DZ22: 0 | EA22: 0 | EB22: 0 | EC22: 0 | ED22: 0 | EE22: 855.82 | EF22: 0 | EG22: 0 | EI22: 0 | EJ22: 0 | EK22: 0 | EL22: 0 | EO22: 32032.753 | EP22: 6161.5723 | EQ22: 61453.028 | ER22: 12663.572 | ES22: 0 | ET22: 33.478303 | EU22: 0 | EV22: 0 | EW22: 0 | EY22: 0 | EZ22: 597862.92 | FA22: 179992.56 | FB22: 104576.36 | FC22: 58175.425 | FD22: 8388.4851 | FE22: 1429.6534 | FF22: 0 | FG22: 0 | FH22: 896.25 | FJ22: 0 | FK22: 394482.72 | FM22: 6109.83 | FO22: 0 | FP22: 0 | FQ22: 111707.15 | FR22: 386290.86 | FS22: 6286.22 | FT22: 25701.56 | FU22: 75506.4 | FV22: 13904.27 | FW22: 0 | FX22: 0 | FY22: 0 | FZ22: 0 | GA22: 0 | GB22: 7284.0779 | GC22: 0 | GD22: 0 | GE22: 0 | GF22: 0 | GG22: 0 | GH22: 0 | GI22: 0 | GJ22: 0 | GK22: 0 | GL22: 0 | GM22: 0 | GN22: 0 | GO22: 384.19128 | GP22: 633.42502 | GQ22: 0 | GR22: 15433.671 | GS22: 10950 | GT22: 8189.0347 | GU22: 0 | GV22: 0 | GW22: 5282.6369 | GX22: 228.3 | GY22: 10429.53 | GZ22: 660800.43 | HA22: 50890.546 | HB22: 101989.4 | HC22: 19113 | HD22: 841873.29 | HE22: 74185.227 | HF22: 5674 | HG22: 78769.063 | HH22: 0 | HI22: 0 | HJ22: 1650.3626 | HK22: 161206.1 | HL22: 7137.1031 | HM22: 19.514991 | HN22: 0 | HO22: 12011.308 | HP22: 64008.16 | HQ22: 0 | HR22: 41804.138 | HS22: 136770.14 | HT22: 1350923.2 | HU22: 176532.85 | HV22: 30665.013 | HW22: 80683.837 | HX22: 61436.33 | HY22: 349318.03 | HZ22: 28702 | IA22: 378020.03 | IB22: 1137.5894 | IC22: 379157.62 | ID22: 83952.325 | IE22: 295205.3 | IF22: 96290.646 | IG22: 16726.371 | IH22: 80683.837 | II22: 61436.33 | IJ22: 255137.18 | IK22: 28702 | IL22: 283839.18 | IM22: 1137.5894 | IN22: 284976.77 | IO22: 83952.325 | IP22: 201024.45 | IQ22: 83398.325 | IR22: 0.99340102 | IS22: 0 | IT22: 0 | IU22: Programs 200, 512, 514, and 515 special education spending was less than base, weighted, IDEA, and other special education funding.
A23: School 4 | B23: Mogollon High School | C23: 090206201 | D23: 201 | E23: 144.7321 | F23: 0.32582885 | H23: 792275.67 | I23: 203239.55 | J23: 25853.46 | K23: 52139.517 | L23: 33534.02 | M23: 15408.28 | N23: 1405.7 | O23: 52696.549 | P23: 10289.634 | Q23: 14558.27 | R23: 0 | S23: 87307.16 | T23: 28135.94 | U23: 32649.57 | V23: 3286.98 | W23: 193.18718 | X23: 120 | Y23: 12241.96 | Z23: 649.66 | AA23: 3287.72 | AB23: 5149.2059 | AC23: 0 | AD23: 17025.178 | AE23: 6924.1926 | AF23: 14805.814 | AG23: 9296.65 | AH23: 0 | AI23: 241.29144 | AJ23: 140 | AK23: 116.25 | AL23: 19.43 | AM23: 18937.624 | AN23: 0 | AO23: 36428.982 | AP23: 9648.1213 | AQ23: 26689.377 | AR23: 123.91597 | AS23: 0 | AT23: 475.57979 | AU23: 0 | AV23: 0 | AW23: 346.6819 | AX23: 60.545517 | AY23: 0 | AZ23: 0 | BA23: 62118.852 | BB23: 22706.783 | BC23: 545.08 | BD23: 1853.32 | BE23: 4872.1 | BF23: 2142 | BG23: 0 | BH23: 12397.088 | BI23: 2326.1858 | BJ23: 0 | BK23: 0 | BL23: 42977.672 | BM23: 16011.572 | BN23: 50713.612 | BO23: 5490.428 | BP23: 781.65038 | BQ23: 476.25426 | BR23: 0 | BS23: 0 | BT23: 1361.9646 | BU23: 185.65402 | BV23: 10738.527 | BW23: 0 | BX23: 105611.29 | BY23: 41439.234 | BZ23: 116893.89 | CA23: 118759.18 | CB23: 2600.1999 | CC23: 0 | CD23: 0 | CE23: 1845.8181 | CF23: 359.72274 | CG23: 19753.048 | CH23: 0 | CI23: 75394.627 | CJ23: 23698.194 | CK23: 23420.346 | CL23: 29388.377 | CM23: 10020.387 | CN23: 14.988127 | CO23: 0 | CP23: 773.64151 | CQ23: 149.1058 | CR23: 0 | CS23: 2496.1227 | CT23: 477.46634 | CU23: 68597.191 | CV23: 44647.285 | CW23: 6780.24 | CX23: 350 | CY23: 0 | CZ23: 2496.1227 | DA23: 477.46634 | DB23: 80965.211 | DC23: 0 | DD23: 0 | DE23: 0 | DF23: 0 | DG23: 0 | DH23: 0 | DI23: 0 | DJ23: 0 | DK23: 0 | DL23: 0 | DM23: 0 | DN23: 0 | DO23: 0 | DP23: 26237.22 | DQ23: 12900.76 | DR23: 0 | DS23: 1958.07 | DT23: 0 | DU23: 0 | DV23: 0 | DW23: 648 | DX23: 127.34 | DY23: 0 | DZ23: 0 | EA23: 0 | EB23: 0 | EC23: 31586.29 | ED23: 0 | EE23: 36114.77 | EF23: 0 | EG23: 0 | EI23: 0 | EJ23: 0 | EK23: 0 | EL23: 0 | EO23: 73331.775 | EP23: 17282.805 | EQ23: 108130.57 | ER23: 39461.48 | ES23: 0 | ET23: 289.83994 | EU23: 0 | EV23: 0 | EW23: 2220 | EY23: 0 | EZ23: 1174541 | FA23: 347899.01 | FB23: 252037.77 | FC23: 227482.24 | FD23: 58781.785 | FE23: 18938.554 | FF23: 0 | FG23: 0 | FH23: 11567.66 | FJ23: 0 | FK23: 674641.57 | FM23: 14071.71 | FO23: 0 | FP23: 0 | FQ23: 190614.66 | FR23: 649266.45 | FS23: 13249.72 | FT23: 83015.76 | FU23: 138408.48 | FV23: 25994.63 | FW23: 0 | FX23: 0 | FY23: 0 | FZ23: 7311.99 | GA23: 1419.15 | GB23: 14107.62 | GC23: 0 | GD23: 0 | GE23: 0 | GF23: 0 | GG23: 0 | GH23: 0 | GI23: 0 | GJ23: 0 | GK23: 0 | GL23: 0 | GM23: 0 | GN23: 0 | GO23: 2015.9321 | GP23: 2339.3686 | GQ23: 0 | GR23: 29126.858 | GS23: 25589 | GT23: 15140.564 | GU23: 0 | GV23: 0 | GW23: 12552.174 | GX23: 1251.49 | GY23: 24846 | GZ23: 1282821.4 | HA23: 133607.93 | HB23: 226655.41 | HC23: 37104 | HD23: 1630519.2 | HE23: 143680.1 | HF23: 14624 | HG23: 152557.96 | HH23: 0 | HI23: 0 | HJ23: 3196.381 | HK23: 312219.96 | HL23: 13822.963 | HM23: 37.796147 | HN23: 0 | HO23: 23263.202 | HP23: 123969.41 | HQ23: 0 | HR23: 80965.211 | HS23: 264892.99 | HT23: 2620069 | HU23: 477778.12 | HV23: 85164.659 | HW23: 23294.376 | HX23: 50928.07 | HY23: 637165.23 | HZ23: 33304 | IA23: 670469.23 | IB23: 2203.2547 | IC23: 672672.48 | ID23: 108675.02 | IE23: 563997.46 | IF23: 260606.25 | IG23: 46453.45 | IH23: 23294.376 | II23: 50928.07 | IJ23: 381282.15 | IK23: 33304 | IL23: 414586.15 | IM23: 2203.2547 | IN23: 416789.4 | IO23: 108675.02 | IP23: 308114.38 | IQ23: 105387.02 | IR23: 0.96974466 | IS23: 0 | IT23: 0 | IU23: Programs 200, 512, 514, and 515 special education spending was less than base, weighted, IDEA, and other special education funding.

Sheet Student-count revenues
F1: 2026 Base level | G1: 2026 TEI | H1: 2026 CSF per 2025 Group A weighted student count | I1: Total 2026 IIF | J1: FY 2026 DAA per student and growth factor PSD | K1: FY 2026 DAA per student and growth factor K-8 | L1: FY 2026 DAA per student and growth factor 9-12 | M1: FY 2026 HS textbooks amount
F2: 5113.26 | G2: 1 | H2: 842 | I2: 40469.87 | J2: 549.45 | K2: 633.42 | L2: 758.89 | M2: 84.93
J3: 1 | K3: 1 | L3: 1
J4: 549.45 | K4: 633.42 | L4: 758.89
A6: 3806259.1 | B6: 331796.13 | C6: 601991.59 | D6: 40469.87 | E6: 1184748.2 | F6: 204777.08 | G6: 295531.23 | H6: 284809.09 | O6: 2026 Unweighted student counts | R6: 2026 Weighted student counts (AOI adjusted) | U6: 2026 Group B | V6: 2026 Group B | W6: 2025 Unweighted student counts | Z6: 2025 Weighted student counts (AOI adjusted)
A7: Data entry tab row 70 Base support | B7: Data entry tab row 74 DAA | C7: Data entry tab row 77 CSF | D7: Data entry tab row 80 IIF | E7: Data entry tab row 107 Group A WSC | F7: Data entry tab row 108 Group A CSF | G7: Data entry tab row 109 Group B WSC | H7: Data entry tab row 110 SPED Base | I7: Primary Unit code | J7: ADE LEA ID number | K7: District name | L7: ADE school ID number | M7: School name | N7: Self-contained student count from Limited SPED30 report | O7: PSD | P7: K-8 | Q7: HS | R7: PSD | S7: K-8 | T7: 9-12 | U7: Weighted add-on (AOI adjusted, excluding G and FRPL) | V7: K-3 weighted add-on (AOI adjusted) | W7: PSD | X7: K-8 | Y7: HS | Z7: PSD | AA7: K-8 | AB7: 9-12
A8: 935275.56 | B8: 68260.696 | C8: 131870.09 | D8: 8865.1828 | E8: 260425.19 | F8: 41131.709 | G8: 111159.47 | H8: 92294.343 | I8: 102 | J8: 4392 | K8: Heber-Overgaard Unified District | L8: 5623 | M8: Capps Elementary School | N8: 18.05 | O8: 0 | P8: 110.241 | Q8: 0 | R8: 0 | S8: 161.17234 | T8: 0 | U8: 21.739452 | V8: 0 | W8: 0 | X8: 107.7653 | Y8: 0 | Z8: 0 | AA8: 156.61531 | AB8: 0
A9: 639322.43 | B9: 50890.546 | C9: 98313.398 | D9: 6609.2791 | E9: 176532.85 | F9: 30665.013 | G9: 80683.837 | H9: 61436.33 | I9: 103 | J9: 4392 | K9: Heber-Overgaard Unified District | L9: 5624 | M9: Mogollon Jr High School | N9: 12.0151 | O9: 0 | P9: 74.7284 | Q9: 0 | R9: 0 | S9: 109.25292 | T9: 0 | U9: 15.779334 | V9: 0 | W9: 0 | X9: 80.3425 | Y9: 0 | Z9: 0 | AA9: 116.76176 | AB9: 0
A10: 1241125.4 | B10: 133607.93 | C10: 218484.41 | D10: 14687.972 | E10: 477778.12 | F10: 85164.659 | G10: 23294.376 | H10: 50928.07 | I10: 201 | J10: 4392 | K10: Heber-Overgaard Unified District | L10: 5625 | M10: Mogollon High School | N10: 9.96 | O10: 0 | P10: 0 | Q10: 144.7321 | R10: 0 | S10: 0 | T10: 238.17114 | U10: 4.55568 | V10: 0 | W10: 0 | X10: 0 | Y10: 158.337 | Z10: 0 | AA10: 0 | AB10: 259.48268
A11: 990535.74 | B11: 79036.959 | C11: 153323.69 | D11: 10307.436 | E11: 270012.05 | F11: 47815.699 | G11: 80393.546 | H11: 80150.351 | I11: 101 | J11: 4392 | K11: Heber-Overgaard Unified District | L11: 6053 | M11: Mountain Meadows Primary | N11: 15.675 | O11: 7.545 | P11: 106.9502 | Q11: 0 | R11: 10.94025 | S11: 156.36119 | T11: 0 | U11: 26.417582 | V11: 10.69502 | W11: 3.985 | X11: 121.3214 | Y11: 0 | Z11: 5.77825 | AA11: 176.31639 | AB11: 0

Sheet Data entry
B10: Districtwide | C10: School 1 | D10: School 2 | E10: School 3 | F10: School 4
A11: School name | C11: Mountain Meadows Primary | D11: Capps Elementary School | E11: Mogollon Jr High School | F11: Mogollon High School
A12: CTDS | B12: 090206000 | C12: 090206101 | D12: 090206102 | E12: 090206103 | F12: 090206201
A13: Primary Unit code | B13: 500 | C13: 101 | D13: 102 | E13: 103 | F13: 201
A15: Expenditures for contract teacher and substitute salaries & all teacher and substitute benefits [funds 0-799 (excluding 575), function 1000, programs 100-630 (excluding 400)] Report base salaries (including CSF performance pay), overtime, and additional compensation. Do not include salaries paid to instructional aides, assistants, or noncertified teachers. If a teacher is paid from more than one program, allocate based on the amount of time instructing in each program.
A25: Contract teachers (in object 6300) | B25: 0 | C25: 0 | D25: 0 | E25: 0 | F25: 0
A30: Contract substitutes (in object 6300) | B30: 0 | C30: 0 | D30: 0 | E30: 0 | F30: 0
A35: All certified teacher, certified substitute, contract teacher, and contract substitute benefits (in object 6200) | B35: 216 | C35: 154045.64 | D35: 160164.98 | E35: 111670.81 | F35: 190544.28
A40: Total contract teacher and substitute salaries (rows 25 and 30 above) | B40: 0 | C40: 0 | D40: 0 | E40: 0 | F40: 0
A41: Portion of total contract teacher and substitute salaries from State and local sources (from row 40 above) | B41: 0 | C41: 0 | D41: 0 | E41: 0 | F41: 0
A43: Technology expenditures (funds 001-799 (excluding 575), all functions)
A44: Software reported in library books, textbooks, or instructional aids (6641-6643) | B44: 0 | C44: 19823 | D44: 14446 | E44: 10950 | F44: 25589
A45: Noninstructional software subscriptions (more than 12 months) principal and interest (6832 and 6842) | B45: 0 | C45: 0 | D45: 0 | E45: 0 | F45: 0
A46: Total technology expenditures | B46: 0 | C46: 19823 | D46: 14446 | E46: 10950 | F46: 25589
A54: Expenditures of Impact Aid Revenues intended to replace local tax revenues (include only amounts used or transferred to M&O or UCO Fund to reduce or eliminate taxes levied, not all Impact Aid received.)
A55: Function 1000 | B55: 0
A56: Function 2100 | B56: 0
A57: Function 2200 | B57: 0
A58: Function 2300 | B58: 0
A59: Function 2400 | B59: 0
A60: Function 2500 and 2900 | B60: 0
A61: Function 2600 | B61: 0
A62: Function 2700 | B62: 0
A63: Function 3100 | B63: 0
A64: Function 3200 | B64: 0
A65: Function 3400 | B65: 0
A66: Total Impact Aid expenditures | B66: 0
A68: Revenues generated by student count and/or allocated (amounts should agree to the AFR)
A69: Local and State revenues Base support (can be estimated by multiplying the base level by the total WSC at each school)
A70: Amount provided by ADE (ADE will provide after the statewide ADM recalculation is done in July) | B70: 0 | C70: 990535.74 | D70: 935275.56 | E70: 639322.43 | F70: 1241125.4
A71: Adjustments (Enter as a negative number if amount received is less than amount reported by ADE) | B71: 0 | C71: 33277 | D71: 31421 | E71: 21478 | F71: 41696
A72: Please describe the reason(s) for the adjustments. See instructions tab for possible reasons for adjustments including remote instructional time adjustments determined by ADE. | B72: 0 | C72: 0 | D72: 0 | E72: 0 | F72: 0
A73: Actual base support | B73: 0 | C73: 1023812.7 | D73: 966696.56 | E73: 660800.43 | F73: 1282821.4
A74: District additional assistance (amount provided by ADE must be adjusted for Type 03 tuitioned out students and CTED satellite students; adjustment can be estimated by multiplying the DAA per pupil amount, including textbook amount for high school, by the related grade level student count) | B74: 0 | C74: 79036.959 | D74: 68260.696 | E74: 50890.546 | F74: 133607.93
A75: Adjustments (enter as a negative number if amount received is less than amount reported by ADE) | B75: 0 | C75: 0 | D75: 0 | E75: 0 | F75: 0
A76: Actual district additional assistance | B76: 0 | C76: 79036.959 | D76: 68260.696 | E76: 50890.546 | F76: 133607.93
A77: Classroom Site Fund (amount provided by ADE must be adjusted for Type 03 tuitioned out students and CTED satellite students; adjustment can be estimated by multiplying the CSF per pupil amount by the related Group A WSC) | B77: 0 | C77: 153323.69 | D77: 131870.09 | E77: 98313.398 | F77: 218484.41
A78: Adjustments (enter as a negative number if amount received is less than amount reported by ADE) | B78: 0 | C78: 5734 | D78: 4931 | E78: 3676 | F78: 8171
A79: Actual Classroom Site Fund | B79: 0 | C79: 159057.69 | D79: 136801.09 | E79: 101989.4 | F79: 226655.41
A80: Other (IIF, tuition, grants; see instructions tab for more examples) | B80: 0 | C80: 29612 | D80: 27960 | E80: 19113 | F80: 37104
...

Sheet Acerno_Cache_XXXXX

Sheet Options
A1: School Number and Name | B1: CTDS | C1: Unit Code | D1: Student Count
A2: =IF(AND(Totals!A17="", Totals!B17=""), "", IF(Totals!B17<>"", Totals!A17 & ": " & Totals!B17, Totals!A17)) -> Private schools | B2: =IF(Totals!C17="", "", Totals!C17) | C2: =IF(Totals!D17="", "", Totals!D17) | D2: =IF(Totals!E17="", "", Totals!E17) -> 0
A3: =IF(AND(Totals!A18="", Totals!B18=""), "", IF(Totals!B18<>"", Totals!A18 & ": " & Totals!B18, Totals!A18)) -> CTED (member districts) | B3: =IF(Totals!C18="", "", Totals!C18) | C3: =IF(Totals!D18="", "", Totals!D18) | D3: =IF(Totals!E18="", "", Totals!E18) -> 0
A4: =IF(AND(Totals!A19="", Totals!B19=""), "", IF(Totals!B19<>"", Totals!A19 & ": " & Totals!B19, Totals!A19)) -> Districtwide | B4: =IF(Totals!C19="", "", Totals!C19) -> 090206000 | C4: =IF(Totals!D19="", "", Totals!D19) -> 500 | D4: =IF(Totals!E19="", "", Totals!E19)
A5: =IF(AND(Totals!A20="", Totals!B20=""), "", IF(Totals!B20<>"", Totals!A20 & ": " & Totals!B20, Totals!A20)) -> School 1: Mountain Meadows Primary | B5: =IF(Totals!C20="", "", Totals!C20) -> 090206101 | C5: =IF(Totals!D20="", "", Totals!D20) -> 101 | D5: =IF(Totals!E20="", "", Totals!E20) -> 114.4952
A6: =IF(AND(Totals!A21="", Totals!B21=""), "", IF(Totals!B21<>"", Totals!A21 & ": " & Totals!B21, Totals!A21)) -> School 2: Capps Elementary School | B6: =IF(Totals!C21="", "", Totals!C21) -> 090206102 | C6: =IF(Totals!D21="", "", Totals!D21) -> 102 | D6: =IF(Totals!E21="", "", Totals!E21) -> 110.241
A7: =IF(AND(Totals!A22="", Totals!B22=""), "", IF(Totals!B22<>"", Totals!A22 & ": " & Totals!B22, Totals!A22)) -> School 3: Mogollon Jr High School | B7: =IF(Totals!C22="", "", Totals!C22) -> 090206103 | C7: =IF(Totals!D22="", "", Totals!D22) -> 103 | D7: =IF(Totals!E22="", "", Totals!E22) -> 74.7284
A8: =IF(AND(Totals!A23="", Totals!B23=""), "", IF(Totals!B23<>"", Totals!A23 & ": " & Totals!B23, Totals!A23)) -> School 4: Mogollon High School | B8: =IF(Totals!C23="", "", Totals!C23) -> 090206201 | C8: =IF(Totals!D23="", "", Totals!D23) -> 201 | D8: =IF(Totals!E23="", "", Totals!E23) -> 144.7321
A9: =IF(AND(Totals!A24="", Totals!B24=""), "", IF(Totals!B24<>"", Totals!A24 & ": " & Totals!B24, Totals!A24)) | B9: =IF(Totals!C24="", "", Totals!C24) | C9: =IF(Totals!D24="", "", Totals!D24) | D9: =IF(Totals!E24="", "", Totals!E24)
